Package: TAPseq Version: 1.18.0 Command: F:\biocbuild\bbs-3.20-bioc\R\bin\R.exe CMD check --no-multiarch --install=check:TAPseq.install-out.txt --library=F:\biocbuild\bbs-3.20-bioc\R\library --no-vignettes --timings TAPseq_1.18.0.tar.gz StartedAt: 2025-02-04 06:57:05 -0500 (Tue, 04 Feb 2025) EndedAt: 2025-02-04 07:09:12 -0500 (Tue, 04 Feb 2025) EllapsedTime: 727.2 seconds RetCode: 0 Status: WARNINGS CheckDir: TAPseq.Rcheck Warnings: 1