Package: TAPseq Version: 1.18.0 Command: /home/biocbuild/R/R/bin/R CMD build --keep-empty-dirs --no-resave-data TAPseq StartedAt: 2025-02-11 03:02:22 -0000 (Tue, 11 Feb 2025) EndedAt: 2025-02-11 03:07:50 -0000 (Tue, 11 Feb 2025) EllapsedTime: 328.1 seconds RetCode: 0 Status: OK PackageFile: TAPseq_1.18.0.tar.gz PackageFileSize: 2.513 MiB