Package: TAPseq Version: 1.18.0 Command: /home/biocbuild/R/R/bin/R CMD check --install=check:TAPseq.install-out.txt --library=/home/biocbuild/R/R/site-library --no-vignettes --timings TAPseq_1.18.0.tar.gz StartedAt: 2025-02-11 10:59:44 -0000 (Tue, 11 Feb 2025) EndedAt: 2025-02-11 11:13:21 -0000 (Tue, 11 Feb 2025) EllapsedTime: 816.2 seconds RetCode: 0 Status: WARNINGS CheckDir: TAPseq.Rcheck Warnings: 1