Package: TCGAbiolinks Version: 2.34.0 Command: /Library/Frameworks/R.framework/Resources/bin/R CMD INSTALL TCGAbiolinks StartedAt: 2025-02-03 16:20:15 -0500 (Mon, 03 Feb 2025) EndedAt: 2025-02-03 16:21:07 -0500 (Mon, 03 Feb 2025) EllapsedTime: 52.4 seconds RetCode: 0 Status: OK