Package: TCGAbiolinks Version: 2.34.0 Command: /Library/Frameworks/R.framework/Resources/bin/R CMD build --keep-empty-dirs --no-resave-data TCGAbiolinks StartedAt: 2025-02-03 22:51:45 -0500 (Mon, 03 Feb 2025) EndedAt: 2025-02-03 22:58:22 -0500 (Mon, 03 Feb 2025) EllapsedTime: 397.2 seconds RetCode: 1 Status: ERROR PackageFile: None PackageFileSize: NA