Package: TCGAbiolinks Version: 2.34.0 Command: /Library/Frameworks/R.framework/Resources/bin/R CMD INSTALL TCGAbiolinks StartedAt: 2025-02-03 15:55:21 -0500 (Mon, 03 Feb 2025) EndedAt: 2025-02-03 15:56:50 -0500 (Mon, 03 Feb 2025) EllapsedTime: 88.5 seconds RetCode: 0 Status: OK