Package: TCGAbiolinks
Version: 2.33.0
Command: rm -rf TCGAbiolinks.buildbin-libdir && mkdir TCGAbiolinks.buildbin-libdir && C:\Users\biocbuild\bbs-3.20-bioc\R\bin\R.exe CMD INSTALL --build --library=TCGAbiolinks.buildbin-libdir TCGAbiolinks_2.33.0.tar.gz
StartedAt: 2024-07-16 06:50:22 -0400 (Tue, 16 Jul 2024)
EndedAt: 2024-07-16 06:51:27 -0400 (Tue, 16 Jul 2024)
EllapsedTime: 65.6 seconds
RetCode: 0
Status: OK
PackageFile: TCGAbiolinks_2.33.0.zip
PackageFileSize: 60.52 <A href="http://en.wikipedia.org/wiki/MiB" target="_blank">MiB</A>