Package: TCGAutils Version: 1.26.0 Command: rm -rf TCGAutils.buildbin-libdir && mkdir TCGAutils.buildbin-libdir && /Users/biocbuild/BBS/utils/build-universal.sh TCGAutils_1.26.0.tar.gz /Library/Frameworks/R.framework/Resources/bin/R TCGAutils.buildbin-libdir StartedAt: 2025-02-01 17:09:36 -0500 (Sat, 01 Feb 2025) EndedAt: 2025-02-01 17:10:25 -0500 (Sat, 01 Feb 2025) EllapsedTime: 49.6 seconds RetCode: 0 Status: OK PackageFile: TCGAutils_1.26.0.tgz PackageFileSize: 516.1 KiB