Package: TCGAutils Version: 1.26.0 Command: /Library/Frameworks/R.framework/Resources/bin/R CMD INSTALL TCGAutils StartedAt: 2025-02-03 15:52:54 -0500 (Mon, 03 Feb 2025) EndedAt: 2025-02-03 15:53:40 -0500 (Mon, 03 Feb 2025) EllapsedTime: 45.9 seconds RetCode: 0 Status: OK