Package: TCGAutils Version: 1.26.0 Command: /home/biocbuild/bbs-3.20-bioc/R/bin/R CMD build --keep-empty-dirs --no-resave-data --md5 TCGAutils StartedAt: 2025-01-30 19:26:56 -0500 (Thu, 30 Jan 2025) EndedAt: 2025-01-30 19:29:33 -0500 (Thu, 30 Jan 2025) EllapsedTime: 156.5 seconds RetCode: 0 Status: OK PackageFile: TCGAutils_1.26.0.tar.gz PackageFileSize: 407.8 KiB