Package: TCGAutils Version: 1.26.0 Command: /home/biocbuild/bbs-3.20-bioc/R/bin/R CMD check --install=check:TCGAutils.install-out.txt --library=/home/biocbuild/bbs-3.20-bioc/R/site-library --timings TCGAutils_1.26.0.tar.gz StartedAt: 2025-02-04 03:07:17 -0500 (Tue, 04 Feb 2025) EndedAt: 2025-02-04 03:15:16 -0500 (Tue, 04 Feb 2025) EllapsedTime: 479.5 seconds RetCode: 0 Status: OK CheckDir: TCGAutils.Rcheck Warnings: 0