Package: TCGAutils Version: 1.26.0 Command: F:\biocbuild\bbs-3.20-bioc\R\bin\R.exe CMD check --no-multiarch --install=check:TCGAutils.install-out.txt --library=F:\biocbuild\bbs-3.20-bioc\R\library --no-vignettes --timings TCGAutils_1.26.0.tar.gz StartedAt: 2025-01-31 07:09:45 -0500 (Fri, 31 Jan 2025) EndedAt: 2025-01-31 07:19:11 -0500 (Fri, 31 Jan 2025) EllapsedTime: 566.9 seconds RetCode: 0 Status: OK CheckDir: TCGAutils.Rcheck Warnings: 0