Package: TCGAutils Version: 1.26.0 Command: F:\biocbuild\bbs-3.20-bioc\R\bin\R.exe CMD INSTALL TCGAutils StartedAt: 2025-01-30 16:08:52 -0500 (Thu, 30 Jan 2025) EndedAt: 2025-01-30 16:09:52 -0500 (Thu, 30 Jan 2025) EllapsedTime: 59.1 seconds RetCode: 0 Status: OK