Package: TCGAutils Version: 1.26.0 Command: /home/biocbuild/R/R/bin/R CMD build --keep-empty-dirs --no-resave-data TCGAutils StartedAt: 2025-02-04 03:28:57 -0000 (Tue, 04 Feb 2025) EndedAt: 2025-02-04 03:31:15 -0000 (Tue, 04 Feb 2025) EllapsedTime: 138.2 seconds RetCode: 1 Status: ERROR PackageFile: None PackageFileSize: NA