Package: TCGAutils Version: 1.26.0 Command: /home/biocbuild/R/R/bin/R CMD INSTALL TCGAutils StartedAt: 2025-01-30 20:25:23 -0000 (Thu, 30 Jan 2025) EndedAt: 2025-01-30 20:26:10 -0000 (Thu, 30 Jan 2025) EllapsedTime: 46.3 seconds RetCode: 0 Status: OK