Package: TCseq Version: 1.30.0 Command: /home/biocbuild/R/R/bin/R CMD build --keep-empty-dirs --no-resave-data TCseq StartedAt: 2024-11-20 04:25:37 -0000 (Wed, 20 Nov 2024) EndedAt: 2024-11-20 04:26:34 -0000 (Wed, 20 Nov 2024) EllapsedTime: 57.1 seconds RetCode: 0 Status: OK PackageFile: TCseq_1.30.0.tar.gz PackageFileSize: 1.108 MiB