Package: TCseq Version: 1.30.0 Command: /Library/Frameworks/R.framework/Resources/bin/R CMD INSTALL TCseq StartedAt: 2025-02-03 15:37:11 -0500 (Mon, 03 Feb 2025) EndedAt: 2025-02-03 15:38:11 -0500 (Mon, 03 Feb 2025) EllapsedTime: 60.2 seconds RetCode: 0 Status: OK