Package: TDbasedUFE Version: 1.6.0 Command: /Library/Frameworks/R.framework/Resources/bin/R CMD check --install=check:TDbasedUFE.install-out.txt --library=/Library/Frameworks/R.framework/Resources/library --no-vignettes --timings TDbasedUFE_1.6.0.tar.gz StartedAt: 2025-02-01 11:40:44 -0500 (Sat, 01 Feb 2025) EndedAt: 2025-02-01 11:43:01 -0500 (Sat, 01 Feb 2025) EllapsedTime: 136.8 seconds RetCode: 0 Status: OK CheckDir: TDbasedUFE.Rcheck Warnings: 0