Package: TDbasedUFE Version: 1.6.0 Command: /Library/Frameworks/R.framework/Resources/bin/R CMD INSTALL TDbasedUFE StartedAt: 2025-01-30 16:56:47 -0500 (Thu, 30 Jan 2025) EndedAt: 2025-01-30 16:57:01 -0500 (Thu, 30 Jan 2025) EllapsedTime: 13.6 seconds RetCode: 0 Status: OK