Package: TDbasedUFE Version: 1.6.0 Command: /Library/Frameworks/R.framework/Resources/bin/R CMD build --keep-empty-dirs --no-resave-data TDbasedUFE StartedAt: 2025-02-03 22:52:04 -0500 (Mon, 03 Feb 2025) EndedAt: 2025-02-03 22:53:08 -0500 (Mon, 03 Feb 2025) EllapsedTime: 63.7 seconds RetCode: 0 Status: OK PackageFile: TDbasedUFE_1.6.0.tar.gz PackageFileSize: 1.347 MiB