Package: TDbasedUFE Version: 1.6.0 Command: /Library/Frameworks/R.framework/Resources/bin/R CMD check --install=check:TDbasedUFE.install-out.txt --library=/Library/Frameworks/R.framework/Resources/library --no-vignettes --timings TDbasedUFE_1.6.0.tar.gz StartedAt: 2025-01-31 11:05:34 -0500 (Fri, 31 Jan 2025) EndedAt: 2025-01-31 11:08:58 -0500 (Fri, 31 Jan 2025) EllapsedTime: 203.5 seconds RetCode: 0 Status: OK CheckDir: TDbasedUFE.Rcheck Warnings: 0