Package: TDbasedUFE Version: 1.6.0 Command: /home/biocbuild/bbs-3.20-bioc/R/bin/R CMD build --keep-empty-dirs --no-resave-data --md5 TDbasedUFE StartedAt: 2025-01-30 19:27:00 -0500 (Thu, 30 Jan 2025) EndedAt: 2025-01-30 19:27:29 -0500 (Thu, 30 Jan 2025) EllapsedTime: 29.0 seconds RetCode: 0 Status: OK PackageFile: TDbasedUFE_1.6.0.tar.gz PackageFileSize: 1.287 MiB