Package: TDbasedUFE Version: 1.6.0 Command: /home/biocbuild/bbs-3.20-bioc/R/bin/R CMD check --install=check:TDbasedUFE.install-out.txt --library=/home/biocbuild/bbs-3.20-bioc/R/site-library --timings TDbasedUFE_1.6.0.tar.gz StartedAt: 2025-01-31 02:56:54 -0500 (Fri, 31 Jan 2025) EndedAt: 2025-01-31 02:58:54 -0500 (Fri, 31 Jan 2025) EllapsedTime: 120.1 seconds RetCode: 0 Status: OK CheckDir: TDbasedUFE.Rcheck Warnings: 0