Package: TDbasedUFE Version: 1.6.0 Command: rm -rf TDbasedUFE.buildbin-libdir && mkdir TDbasedUFE.buildbin-libdir && F:\biocbuild\bbs-3.20-bioc\R\bin\R.exe CMD INSTALL --build --library=TDbasedUFE.buildbin-libdir TDbasedUFE_1.6.0.tar.gz StartedAt: 2025-01-31 09:46:08 -0500 (Fri, 31 Jan 2025) EndedAt: 2025-01-31 09:46:27 -0500 (Fri, 31 Jan 2025) EllapsedTime: 19.7 seconds RetCode: 0 Status: OK PackageFile: TDbasedUFE_1.6.0.zip PackageFileSize: 806.1 KiB