Package: TDbasedUFE Version: 1.6.0 Command: /home/biocbuild/R/R/bin/R CMD check --install=check:TDbasedUFE.install-out.txt --library=/home/biocbuild/R/R/site-library --no-vignettes --timings TDbasedUFE_1.6.0.tar.gz StartedAt: 2025-02-04 11:38:43 -0000 (Tue, 04 Feb 2025) EndedAt: 2025-02-04 11:40:36 -0000 (Tue, 04 Feb 2025) EllapsedTime: 113.1 seconds RetCode: 0 Status: OK CheckDir: TDbasedUFE.Rcheck Warnings: 0