Package: TDbasedUFE Version: 1.6.0 Command: /home/biocbuild/R/R/bin/R CMD INSTALL TDbasedUFE StartedAt: 2025-01-30 20:43:11 -0000 (Thu, 30 Jan 2025) EndedAt: 2025-01-30 20:43:27 -0000 (Thu, 30 Jan 2025) EllapsedTime: 15.3 seconds RetCode: 0 Status: OK