Package: TDbasedUFEadv Version: 1.6.0 Command: /Library/Frameworks/R.framework/Resources/bin/R CMD build --keep-empty-dirs --no-resave-data TDbasedUFEadv StartedAt: 2025-02-04 09:38:20 -0500 (Tue, 04 Feb 2025) EndedAt: 2025-02-04 09:41:46 -0500 (Tue, 04 Feb 2025) EllapsedTime: 205.5 seconds RetCode: 0 Status: OK PackageFile: TDbasedUFEadv_1.6.0.tar.gz PackageFileSize: 4.019 MiB