Package: TDbasedUFEadv Version: 1.6.0 Command: chmod a+r TDbasedUFEadv -R && F:\biocbuild\bbs-3.20-bioc\R\bin\R.exe CMD build --keep-empty-dirs --no-resave-data TDbasedUFEadv StartedAt: 2025-02-03 22:33:43 -0500 (Mon, 03 Feb 2025) EndedAt: 2025-02-03 22:37:34 -0500 (Mon, 03 Feb 2025) EllapsedTime: 231.5 seconds RetCode: 0 Status: OK PackageFile: TDbasedUFEadv_1.6.0.tar.gz PackageFileSize: 2.577 MiB