Package: TEKRABber Version: 1.10.0 Command: /Library/Frameworks/R.framework/Resources/bin/R CMD INSTALL TEKRABber StartedAt: 2025-02-03 16:18:43 -0500 (Mon, 03 Feb 2025) EndedAt: 2025-02-03 16:19:29 -0500 (Mon, 03 Feb 2025) EllapsedTime: 45.7 seconds RetCode: 0 Status: OK