Package: TEKRABber Version: 1.10.0 Command: /Library/Frameworks/R.framework/Resources/bin/R CMD build --keep-empty-dirs --no-resave-data TEKRABber StartedAt: 2025-02-03 22:52:15 -0500 (Mon, 03 Feb 2025) EndedAt: 2025-02-03 22:56:55 -0500 (Mon, 03 Feb 2025) EllapsedTime: 280.3 seconds RetCode: 0 Status: OK PackageFile: TEKRABber_1.10.0.tar.gz PackageFileSize: 3.439 MiB