Package: TEKRABber Version: 1.10.0 Command: /home/biocbuild/bbs-3.20-bioc/R/bin/R CMD check --install=check:TEKRABber.install-out.txt --library=/home/biocbuild/bbs-3.20-bioc/R/site-library --timings TEKRABber_1.10.0.tar.gz StartedAt: 2025-02-04 03:07:46 -0500 (Tue, 04 Feb 2025) EndedAt: 2025-02-04 03:27:27 -0500 (Tue, 04 Feb 2025) EllapsedTime: 1181.3 seconds RetCode: 0 Status: OK CheckDir: TEKRABber.Rcheck Warnings: 0