Package: TEKRABber Version: 1.10.0 Command: F:\biocbuild\bbs-3.20-bioc\R\bin\R.exe CMD INSTALL TEKRABber StartedAt: 2025-02-03 16:29:22 -0500 (Mon, 03 Feb 2025) EndedAt: 2025-02-03 16:30:13 -0500 (Mon, 03 Feb 2025) EllapsedTime: 50.6 seconds RetCode: 0 Status: OK