Package: TEQC Version: 4.28.0 Command: /Library/Frameworks/R.framework/Resources/bin/R CMD check --install=check:TEQC.install-out.txt --library=/Library/Frameworks/R.framework/Resources/library --no-vignettes --timings TEQC_4.28.0.tar.gz StartedAt: 2025-02-05 12:38:09 -0500 (Wed, 05 Feb 2025) EndedAt: 2025-02-05 12:40:17 -0500 (Wed, 05 Feb 2025) EllapsedTime: 128.5 seconds RetCode: 0 Status: WARNINGS CheckDir: TEQC.Rcheck Warnings: 1