Package: TEQC Version: 4.28.0 Command: /Library/Frameworks/R.framework/Resources/bin/R CMD INSTALL TEQC StartedAt: 2025-02-03 15:54:50 -0500 (Mon, 03 Feb 2025) EndedAt: 2025-02-03 15:55:06 -0500 (Mon, 03 Feb 2025) EllapsedTime: 16.0 seconds RetCode: 0 Status: OK