Package: TEQC Version: 4.28.0 Command: /Library/Frameworks/R.framework/Resources/bin/R CMD check --install=check:TEQC.install-out.txt --library=/Library/Frameworks/R.framework/Resources/library --no-vignettes --timings TEQC_4.28.0.tar.gz StartedAt: 2024-11-09 15:03:10 -0500 (Sat, 09 Nov 2024) EndedAt: 2024-11-09 15:07:31 -0500 (Sat, 09 Nov 2024) EllapsedTime: 260.6 seconds RetCode: 0 Status: WARNINGS CheckDir: TEQC.Rcheck Warnings: 1