Package: TEQC Version: 4.28.0 Command: /Library/Frameworks/R.framework/Resources/bin/R CMD check --install=check:TEQC.install-out.txt --library=/Library/Frameworks/R.framework/Resources/library --no-vignettes --timings TEQC_4.28.0.tar.gz StartedAt: 2025-02-04 11:12:34 -0500 (Tue, 04 Feb 2025) EndedAt: 2025-02-04 11:16:11 -0500 (Tue, 04 Feb 2025) EllapsedTime: 217.0 seconds RetCode: 0 Status: WARNINGS CheckDir: TEQC.Rcheck Warnings: 1