Package: TEQC Version: 4.28.0 Command: /Library/Frameworks/R.framework/Resources/bin/R CMD INSTALL TEQC StartedAt: 2025-02-03 15:38:45 -0500 (Mon, 03 Feb 2025) EndedAt: 2025-02-03 15:39:12 -0500 (Mon, 03 Feb 2025) EllapsedTime: 27.2 seconds RetCode: 0 Status: OK