Package: TEQC Version: 4.28.0 Command: /home/biocbuild/bbs-3.20-bioc/R/bin/R CMD build --keep-empty-dirs --no-resave-data --md5 TEQC StartedAt: 2025-02-03 19:36:59 -0500 (Mon, 03 Feb 2025) EndedAt: 2025-02-03 19:37:21 -0500 (Mon, 03 Feb 2025) EllapsedTime: 22.3 seconds RetCode: 0 Status: OK PackageFile: TEQC_4.28.0.tar.gz PackageFileSize: 646.3 KiB