Package: TEQC Version: 4.28.0 Command: rm -rf TEQC.buildbin-libdir && mkdir TEQC.buildbin-libdir && F:\biocbuild\bbs-3.20-bioc\R\bin\R.exe CMD INSTALL --build --library=TEQC.buildbin-libdir TEQC_4.28.0.tar.gz StartedAt: 2025-02-04 09:39:57 -0500 (Tue, 04 Feb 2025) EndedAt: 2025-02-04 09:40:19 -0500 (Tue, 04 Feb 2025) EllapsedTime: 22.1 seconds RetCode: 0 Status: OK PackageFile: TEQC_4.28.0.zip PackageFileSize: 666.8 KiB