Package: TEQC Version: 4.28.0 Command: F:\biocbuild\bbs-3.20-bioc\R\bin\R.exe CMD INSTALL TEQC StartedAt: 2025-02-03 16:00:52 -0500 (Mon, 03 Feb 2025) EndedAt: 2025-02-03 16:01:20 -0500 (Mon, 03 Feb 2025) EllapsedTime: 27.7 seconds RetCode: 0 Status: OK