Package: TEQC Version: 4.28.0 Command: /home/biocbuild/R/R/bin/R CMD build --keep-empty-dirs --no-resave-data TEQC StartedAt: 2025-02-04 03:29:53 -0000 (Tue, 04 Feb 2025) EndedAt: 2025-02-04 03:30:27 -0000 (Tue, 04 Feb 2025) EllapsedTime: 34.1 seconds RetCode: 0 Status: OK PackageFile: TEQC_4.28.0.tar.gz PackageFileSize: 633.7 KiB