Package: TEQC Version: 4.28.0 Command: /home/biocbuild/R/R/bin/R CMD check --install=check:TEQC.install-out.txt --library=/home/biocbuild/R/R/site-library --no-vignettes --timings TEQC_4.28.0.tar.gz StartedAt: 2025-02-04 11:39:53 -0000 (Tue, 04 Feb 2025) EndedAt: 2025-02-04 11:41:52 -0000 (Tue, 04 Feb 2025) EllapsedTime: 119.2 seconds RetCode: 0 Status: WARNINGS CheckDir: TEQC.Rcheck Warnings: 1