Package: TEQC Version: 4.28.0 Command: /home/biocbuild/R/R/bin/R CMD INSTALL TEQC StartedAt: 2025-02-03 20:37:58 -0000 (Mon, 03 Feb 2025) EndedAt: 2025-02-03 20:38:16 -0000 (Mon, 03 Feb 2025) EllapsedTime: 17.5 seconds RetCode: 0 Status: OK