Package: TFARM
Version: 1.28.0
Command: /Library/Frameworks/R.framework/Resources/bin/R CMD check --install=check:TFARM.install-out.txt --library=/Library/Frameworks/R.framework/Resources/library --no-vignettes --timings TFARM_1.28.0.tar.gz
StartedAt: 2025-02-19 12:00:21 -0500 (Wed, 19 Feb 2025)
EndedAt: 2025-02-19 12:02:38 -0500 (Wed, 19 Feb 2025)
EllapsedTime: 137.7 seconds
RetCode: 0
Status: OK
CheckDir: TFARM.Rcheck
Warnings: 0