Package: TFARM Version: 1.28.0 Command: /Library/Frameworks/R.framework/Resources/bin/R CMD build --keep-empty-dirs --no-resave-data TFARM StartedAt: 2025-02-03 22:52:57 -0500 (Mon, 03 Feb 2025) EndedAt: 2025-02-03 22:57:17 -0500 (Mon, 03 Feb 2025) EllapsedTime: 260.1 seconds RetCode: 0 Status: OK PackageFile: TFARM_1.28.0.tar.gz PackageFileSize: 470.9 KiB