Package: TFARM Version: 1.28.0 Command: /home/biocbuild/bbs-3.20-bioc/R/bin/R CMD build --keep-empty-dirs --no-resave-data --md5 TFARM StartedAt: 2025-02-03 19:37:17 -0500 (Mon, 03 Feb 2025) EndedAt: 2025-02-03 19:38:57 -0500 (Mon, 03 Feb 2025) EllapsedTime: 100.1 seconds RetCode: 0 Status: OK PackageFile: TFARM_1.28.0.tar.gz PackageFileSize: 473 KiB