Package: TFARM Version: 1.27.0 Command: rm -rf TFARM.buildbin-libdir && mkdir TFARM.buildbin-libdir && F:\biocbuild\bbs-3.20-bioc\R\bin\R.exe CMD INSTALL --build --library=TFARM.buildbin-libdir TFARM_1.27.0.tar.gz StartedAt: 2024-05-21 07:41:46 -0400 (Tue, 21 May 2024) EndedAt: 2024-05-21 07:42:19 -0400 (Tue, 21 May 2024) EllapsedTime: 33.5 seconds RetCode: 0 Status: OK PackageFile: TFARM_1.27.0.zip PackageFileSize: 537.2 KiB