Package: TFARM Version: 1.28.0 Command: /home/biocbuild/R/R/bin/R CMD build --keep-empty-dirs --no-resave-data TFARM StartedAt: 2025-02-04 03:30:23 -0000 (Tue, 04 Feb 2025) EndedAt: 2025-02-04 03:32:59 -0000 (Tue, 04 Feb 2025) EllapsedTime: 156.2 seconds RetCode: 0 Status: OK PackageFile: TFARM_1.28.0.tar.gz PackageFileSize: 451.4 KiB