Package: TFARM Version: 1.28.0 Command: /home/biocbuild/R/R/bin/R CMD INSTALL TFARM StartedAt: 2025-02-03 20:34:51 -0000 (Mon, 03 Feb 2025) EndedAt: 2025-02-03 20:35:12 -0000 (Mon, 03 Feb 2025) EllapsedTime: 20.1 seconds RetCode: 0 Status: OK