Package: TFBSTools Version: 1.44.0 Command: F:\biocbuild\bbs-3.20-bioc\R\bin\R.exe CMD INSTALL TFBSTools StartedAt: 2025-02-03 16:50:21 -0500 (Mon, 03 Feb 2025) EndedAt: 2025-02-03 16:52:39 -0500 (Mon, 03 Feb 2025) EllapsedTime: 137.9 seconds RetCode: 0 Status: OK